BEGIN:VCALENDAR
VERSION:2.0
PRODID:-//Drupal//recurring_events_ical//2.0//EN
BEGIN:VEVENT
UID:c183de65-8fc2-4db3-bca2-a061a6acfaa3@www.nsf.gov
DTSTAMP:20260422T163748Z
DTSTART:20260601T170000Z
DTEND:20260601T210000Z
SUMMARY:Astronomy and Astrophysics Advisory Committee meeting (June 2026)
CONTACT:Louise Edwards loedward@nsf.gov
DESCRIPTION:The Astronomy and Astrophysics Advisory Committee is a federal 
 advisory committee chartered under the Federal Advisory Committee Act at t
 he recommendation of the Presidential Committee on the Organization and Ma
 nagement of Research in Astronomy and Astrophysics (COMRAA).The purpose of
  this meeting is to provide advice and recommendations to the U.S. Nationa
 l Science Foundation (NSF), the National Aeronautics and Space Administrat
 ion (NASA), and the U.S. Department of Energy (DOE) on issues within the f
 ield of astronomy and astrophysics that are of mutual interest and concern
  to the agencies.This online meeting requires advance registration. The li
 nk will be provided closer to the meeting date.For additional assistance w
 ith accessibility and reasonable accommodations, contact rarequest@nsf.gov
  or call 703-292-8020 to request support. Please contact NSF at least 14 d
 ays before your meeting or event date for sessions lasting one day or less
  and 30 days in advance for sessions lasting two or more consecutive days 
 to allow sufficient time to coordinate arrangements.Any opinions, findings
 , conclusions or recommendations expressed by guest speaker(s) are those o
 f the speaker(s) and do not necessarily reflect the views of the U.S. Nati
 onal Science Foundation.
URL:https://www.nsf.gov/events/astronomy-astrophysics-advisory-committee-me
 eting-june-2026/2026-06-01
END:VEVENT
END:VCALENDAR