BEGIN:VCALENDAR
VERSION:2.0
PRODID:-//Drupal//recurring_events_ical//2.0//EN
BEGIN:VEVENT
UID:17503be9-8edc-4472-aa6c-56196cba0647@www.nsf.gov
DTSTAMP:20260401T103607Z
DTSTART:20260429T200000Z
DTEND:20260429T213000Z
SUMMARY:Multiple NSF Directorates Invite Research Security-Related Proposal
 s
CONTACT:Ellen McCallie emccalli@nsf.gov
DESCRIPTION:Multiple NSF directorates invite research security-related prop
 osalsThis webinar highlights and differentiates the range of funding oppor
 tunities from multiple U.S. National Science Foundation directorates that 
 will help foster stronger research security-related practices throughout t
 he community. It is appropriate for those involved in research security 
 policy, implementation, administration and research itself. All organizati
 on types, including those in NSF Established Program to Simulate Competiti
 ve Research jurisdictions, are encouraged to attend. The following NSF pro
 grams will participate:Research on Research SecurityGrowing Research Acces
 s for Nationally Transformative Economic Development: Dear Colleague Lette
 r: Growing Research Compliance Support and Service Infrastructure for Nati
 onally Transformative Economic DevelopmentLaw & ScienceSecurity and Prepar
 ednessSecurity, Privacy, and Trust in CyberspaceScience of Science: Discov
 ery, Communication and ImpactCybersecurity Innovation for Cyberinfrastruct
 ureTo learn more, register for either of the webinars below. Both webinars
  will be live with identical content.Thursday, April 2, 2026, at 3-4:3
 0 p.m. Eastern Daylight Time. Registration linkWednesday, April 29, 2026, 
 at 4-5:30 p.m. Eastern Daylight Time. Registration link  For additional 
 assistance with accessibility and reasonable accommodations, contact rareq
 uest@nsf.gov or call 703-292-8020 to request support. Please contact NSF a
 t least 14 days before your meeting or event date for sessions lasting one
  day or less and 30 days in advance for sessions lasting two or more conse
 cutive days to allow sufficient time to coordinate arrangements.
LOCATION:Registration link for April 2nd Zoom Webinar.Registration link for
  April 29th Zoom Webinar.
URL:https://www.nsf.gov/events/multiple-nsf-directorates-invite-research-se
 curity-related/2026-04-29
END:VEVENT
END:VCALENDAR