BEGIN:VCALENDAR
VERSION:2.0
PRODID:-//Drupal//recurring_events_ical//2.0//EN
BEGIN:VEVENT
UID:1ba5f342-a6ae-4723-9763-c77ddb45b154@www.nsf.gov
DTSTAMP:20260421T142751Z
DTSTART:20260610T170000Z
DTEND:20260610T180000Z
SUMMARY:NSF BIO Virtual Office Hour: Updates from the NSF Directorate for B
 iological Sciences
CONTACT:Karen Cone kccone@nsf.gov
DESCRIPTION:This virtual office hour will review program requirements and p
 rovide advice for submitting a proposal to the U.S. National Science Found
 ation Research Experiences for Undergraduates Sites program.\n\nAbout the 
 series\n\nThis virtual office hour will focus on updates from the U.S. Nat
 ional Science Foundation Directorate for Biological Sciences that may be o
 f interest to the biological sciences research community.For additional as
 sistance with accessibility and reasonable accommodations, contact rareque
 st@nsf.gov or call 703-292-8020 to request support. Please contact NSF at 
 least 14 days before your meeting or event date for sessions lasting one d
 ay or less and 30 days in advance for sessions lasting two or more consecu
 tive days to allow sufficient time to coordinate arrangements.
LOCATION:Register for Zoom webinar.
URL:https://www.nsf.gov/events/nsf-bio-virtual-office-hour-updates-nsf-dire
 ctorate-0/2026-06-10
END:VEVENT
END:VCALENDAR