BEGIN:VCALENDAR
VERSION:2.0
PRODID:-//Drupal//recurring_events_ical//2.0//EN
BEGIN:VEVENT
UID:2cbbfee1-0d39-4f87-a889-1730cdee2ae0@www.nsf.gov
DTSTAMP:20260421T142722Z
DTSTART:20260819T170000Z
DTEND:20260819T180000Z
SUMMARY:NSF BIO Virtual Office Hour: Updates from the NSF Directorate for B
 iological Sciences
CONTACT:Karen Cone kccone@nsf.gov
DESCRIPTION:Topic TBD.\n\nAbout the series\n\nThis virtual office hour will
  focus on updates from the U.S. National Science Foundation Directorate fo
 r Biological Sciences that may be of interest to the biological sciences r
 esearch community.For additional assistance with accessibility and reasona
 ble accommodations, contact rarequest@nsf.gov or call 703-292-8020 to requ
 est support. Please contact NSF at least 14 days before your meeting or ev
 ent date for sessions lasting one day or less and 30 days in advance for s
 essions lasting two or more consecutive days to allow sufficient time to c
 oordinate arrangements.
LOCATION:Register for Zoom webinar.
URL:https://www.nsf.gov/events/nsf-bio-virtual-office-hour-updates-nsf-dire
 ctorate-0/2026-08-19
END:VEVENT
END:VCALENDAR