BEGIN:VCALENDAR
VERSION:2.0
PRODID:-//Drupal//recurring_events_ical//2.0//EN
BEGIN:VEVENT
UID:451c41cf-0dc2-4c72-ae37-a85af5bb5cf4@www.nsf.gov
DTSTAMP:20260402T163825Z
DTSTART:20260625T180000Z
DTEND:20260625T193000Z
SUMMARY:NSF CAREER Proposal Submission Logistics Webinar
CONTACT:CAREER technical team careerproposalprep@nsf.gov
DESCRIPTION:Representatives from the NSF Division of Enterprise Services wi
 ll hold a technical webinar on system-related information to assist with p
 roposal submission for the NSF Faculty Early Career Development Program (N
 SF CAREER):Thursday, June 25, 2026, from 2 to 3:30 p.m. Eastern Daylight T
 imeThis webinar will include a review of the system-related requirements i
 n the NSF Supplementary Proposal Submission Timeline Guidance, a demo of h
 ow to prepare an NSF CAREER proposal in Research.gov, and a Q&A session. S
 ubmit questions for the Q&A session before the webinar to careerproposalpr
 ep@nsf.gov.Register for the webinar. A confirmation email with details abo
 ut joining the webinar will be sent after registering.The webinar will be 
 recorded for on-demand viewing. The recording link will be posted in an ad
 visory at the top of the Research.gov homepage after the event.Any questio
 ns about this technical webinar may be directed to careerproposalprep@nsf.
 gov.For additional assistance with accessibility and reasonable accommodat
 ions, contact rarequest@nsf.gov or call 703-292-8020 to request support. P
 lease contact NSF at least 14 days before your meeting or event date for s
 essions lasting one day or less and 30 days in advance for sessions lastin
 g two or more consecutive days to allow sufficient time to coordinate arra
 ngements.
LOCATION:Register for Zoom webinar.
URL:https://www.nsf.gov/events/nsf-career-proposal-submission-logistics-web
 inar-2/2026-06-25
END:VEVENT
END:VCALENDAR