BEGIN:VCALENDAR
VERSION:2.0
PRODID:-//Drupal//recurring_events_ical//2.0//EN
BEGIN:VEVENT
UID:f952e930-c131-4b9d-b7b3-72b6e1f7c7a9@www.nsf.gov
DTSTAMP:20260312T125744Z
DTSTART:20260511T123000Z
DTEND:20260511T210000Z
SUMMARY:NSF CISE CAREER Proposal Writing Workshop
CONTACT:Wenjing Lou wjlou@vt.edu
DESCRIPTION:The 2026 U.S. National Science Foundation Computer and Informat
 ion and Engineering (NSF CISE) Faculty Early Career Development (NSF CAREE
 R) workshop is scheduled to take place May 11, 2026, at the Virginia Tech 
 Greater Washington D.C. metro area campus, Academic Building One, located 
 at 3625 Potomac Avenue, Alexandria, Virginia 22305. A comprehensive, full-
 day program has been designed, featuring presentations and panel discussio
 ns led by NSF program directors, insights from previous NSF CAREER award r
 ecipients, and focused breakout sessions tailored to various programs, whe
 re attendees will have the opportunity to interact with NSF CISE program d
 irectors in smaller groups.This year's workshop will be a hybrid event, al
 lowing for flexibility in participation. While approximately 200 participa
 nts are invited to attend the workshop in person, others can join the plen
 ary sessions remotely via Zoom. We anticipate and encourage all invited pa
 rticipants to fully engage and attend the entire program on May 11.To part
 icipate, please apply by the appropriate deadline listed below. Get more i
 nformation about the workshop, including how to apply, agenda, speakers an
 d more.Important Dates:In-person attendance application deadline: March 27
 , 2026.In-person attendance notification: April 3, 2026.One-on-one meeting
  request deadline: April 24, 2026.Virtual attendance registration deadline
 : May 8, 2026.Workshop date: May 11, 2026.Virtual one-on-one meeting dates
 : May 12-19, 2026.For additional assistance with accessibility and reasona
 ble accommodations, contact rarequest@nsf.gov or call 703-292-8020 to requ
 est support. Please contact NSF at least 14 days before your meeting or ev
 ent date for sessions lasting one day or less and 30 days in advance for s
 essions lasting two or more consecutive days to allow sufficient time to c
 oordinate arrangements.Any opinions, findings, conclusions or recommendati
 ons expressed by guest speaker(s) are those of the speaker(s) and do not n
 ecessarily reflect the views of the U.S. National Science Foundation.
LOCATION:Virginia Tech Greater Washington D.C. metro area Campus, Academic 
 Building One, located at 3625 Potomac Avenue, Alexandria, VA 22305.The eve
 nt will also be virtual. Click here to register for the webinar.
URL:https://www.nsf.gov/events/nsf-cise-career-proposal-writing-workshop/20
 26-05-11
END:VEVENT
END:VCALENDAR