BEGIN:VCALENDAR
VERSION:2.0
PRODID:-//Drupal//recurring_events_ical//2.0//EN
BEGIN:VEVENT
UID:a41bff5d-368a-4f28-972a-6f0b07805357@www.nsf.gov
DTSTAMP:20260421T152139Z
DTSTART:20260506T170000Z
DTEND:20260506T183000Z
SUMMARY:NSF ENG CMMI CAREER Program Webinar
CONTACT:Alexis Lewis alewis@nsf.gov
DESCRIPTION:Representatives from the U.S. National Science Foundation Civil
 , Mechanical and Manufacturing Innovation (NSF CMMI) Section of the NSF Di
 rectorate for Engineering will host a webinar on proposal development for 
 the NSF Faculty Early Career Development (NSF CAREER) program.The agencywi
 de NSF CAREER program supports early-career faculty who have the potenti
 al to serve as academic role models in research and education and to lead 
 advances in the mission of their department or organization. Activities pu
 rsued by early-career faculty should build a firm foundation for a lifetim
 e of leadership in integrating education and research. NSF CMMI areas of
  interest for CAREER proposals include:Advanced manufacturing, design and 
 operations.Engineering for the built environment.Intelligent and interacti
 ve dynamic systems.Mechanics of advanced materials systems.The CMMI CAREER
  webinar will be held on Wednesday, May 6, 2026, from 1 p.m. to 2:30 p.m. 
 Eastern Daylight Time. It will cover:CAREER program goals and proposal dev
 elopment.CAREER solicitation requirements.Audience Q&A.Register for the CM
 MI CAREER webinar.After registering, you will receive a confirmation email
  with details to join the webinar via Zoom.Please review the CAREER progra
 m solicitation and FAQs prior to the webinar. CAREER proposals are due J
 uly 22, 2026.For additional assistance with accessibility and reasonable a
 ccommodations, contact rarequest@nsf.gov or call 703-292-8020 to request s
 upport. Please contact NSF at least 14 days before your meeting or event d
 ate for sessions lasting one day or less and 30 days in advance for sessio
 ns lasting two or more consecutive days to allow sufficient time to coordi
 nate arrangements.
LOCATION:Register for the CMMI CAREER webinar.
URL:https://www.nsf.gov/events/nsf-eng-cmmi-career-program-webinar/2026-05-
 06
END:VEVENT
END:VCALENDAR