BEGIN:VCALENDAR
VERSION:2.0
PRODID:-//Drupal//recurring_events_ical//2.0//EN
BEGIN:VEVENT
UID:51c7ff2d-e56d-408b-8ada-6c7632ad4fe7@www.nsf.gov
DTSTAMP:20260424T124848Z
DTSTART:20260528T190000Z
DTEND:20260528T200000Z
SUMMARY:NSF EPSCoR Graduate Fellowship Program Office Hours for Potential F
 ellows
CONTACT:Narcrisha Norman, PhD EGFP@nsf.gov
DESCRIPTION:Have you heard about the NSF EPSCoR Graduate Fellowship Program
  (NSF EGFP)?About EGFPThe EGFP supports graduate study at institutions of 
 higher education in EPSCoR jurisdictions by providing fellowship funding f
 or EGFP-eligible students pursuing research-based master’s and/or doctor
 al degree programs in NSF-supported disciplines. EGFP awards are made to i
 nstitutions in EPSCoR jurisdictions to support selected NSF Graduate Resea
 rch Fellowships Program (NSF GRFP) Honorable Mentions (HMs). Each fellowsh
 ip provides three years of support, including an annual stipend of $37,000
  per year per fellow and a cost-of-education allowance of $16,000 per year
 .Find current EGFP opportunities for students (scroll down and select EGFP
 ).EligibilityEGFP is an exclusive opportunity for GRFP HMs. GRFP HMs are e
 ligible to apply for up to three years following their selection as a GRFP
  HM. This means that if you received a GRFP HM in April 2023, you have unt
 il April 2026 to apply for EGFP via the NSF Education and Training Applica
 tion (NSF ETAP) system.Additional institution criteria for program accepta
 nce and eligibility may apply.How to applyFind a list of current EGFP awar
 dees and opportunities. This list is updated annually during the summer. W
 e encourage you to reach out to participating institutions directly for mo
 re information about their particular opportunity and to apply to multiple
  opportunities as appropriate.Applications must be submitted through the N
 SF ETAP system.Learn moreWe invite you to attend an upcoming office hour s
 ession for potential EGFP Fellows to learn more about the existing EGFP op
 portunities and ask questions.Office hours:Monday, April 27 |1-2 p.m. EDTT
 hursday, May 28 | 3-4 p.m. EDTMonday, June 8 | 1-2 p.m. EDTRegistration is
  required to attend. Register here.For additional assistance with accessib
 ility and reasonable accommodations, contact rarequest@nsf.gov or call 703
 -292-8020 to request support. Please contact NSF at least 14 days before y
 our meeting or event date for sessions lasting one day or less and 30 days
  in advance for sessions lasting two or more consecutive days to allow suf
 ficient time to coordinate arrangements.
LOCATION:Register here for Office Hours.
URL:https://www.nsf.gov/events/nsf-epscor-graduate-fellowship-program-offic
 e-hours-0/2026-05-28
END:VEVENT
END:VCALENDAR