BEGIN:VCALENDAR
VERSION:2.0
PRODID:-//Drupal//recurring_events_ical//2.0//EN
BEGIN:VEVENT
UID:4d80d22a-ad81-4cfb-8145-624f16d09ac3@www.nsf.gov
DTSTAMP:20260421T165648Z
DTSTART:20260507T173000Z
DTEND:20260507T183000Z
SUMMARY:NSF Office of Polar Programs (NSF OPP) Updates Office Hour
CONTACT:Beverly Walker bwalker@nsf.gov
DESCRIPTION:Please join NSF OPP leadership and staff for an office 
 hour to discuss recent organizational updates and what to expect
  going forward.  The goal of this event is to help researchers understand
  how these changes may affect proposal development and review, and to
  answer questions from the research community. The session will also
  offer insight into how OPP operates and is intended to help c
 urrent and prospective investigators strengthen future proposals. Th
 e updates will be most relevant for current and future polar researchers.
  Closed captioning will be provided.  Please note that all inquiries 
 about specific proposals, either under development, in review or already
  reviewed, will be redirected to the relevant email alias and not addres
 sed during the session. Similarly, questions regarding operation
 al or logistical details for upcoming field seasons will be redirected t
 o the relevant program email alias.  Please share the registration li
 nk with researchers interested in submitting polar research proposal
 s.   For additional assistance with accessibility and reasonable accom
 modations, contact rarequest@nsf.gov or call 703-292-8020 to request suppo
 rt. Please contact NSF at least 14 days before your meeting or event date 
 for sessions lasting one day or less and 30 days in advance for sessions l
 asting two or more consecutive days to allow sufficient time to coordinate
  arrangements. 
LOCATION:Register here
URL:https://www.nsf.gov/events/nsf-office-polar-programs-nsf-opp-updates-of
 fice-hour/2026-05-07
END:VEVENT
END:VCALENDAR